BEGIN:VCALENDAR
VERSION:2.0
PRODID:-//MOSAIC at Chatham Park - ECPv6.15.20//NONSGML v1.0//EN
CALSCALE:GREGORIAN
METHOD:PUBLISH
X-ORIGINAL-URL:https://www.mosaicatchathampark.com
X-WR-CALDESC:Events for MOSAIC at Chatham Park
REFRESH-INTERVAL;VALUE=DURATION:PT1H
X-Robots-Tag:noindex
X-PUBLISHED-TTL:PT1H
BEGIN:VTIMEZONE
TZID:America/New_York
BEGIN:DAYLIGHT
TZOFFSETFROM:-0500
TZOFFSETTO:-0400
TZNAME:EDT
DTSTART:20240310T070000
END:DAYLIGHT
BEGIN:STANDARD
TZOFFSETFROM:-0400
TZOFFSETTO:-0500
TZNAME:EST
DTSTART:20241103T060000
END:STANDARD
BEGIN:DAYLIGHT
TZOFFSETFROM:-0500
TZOFFSETTO:-0400
TZNAME:EDT
DTSTART:20250309T070000
END:DAYLIGHT
BEGIN:STANDARD
TZOFFSETFROM:-0400
TZOFFSETTO:-0500
TZNAME:EST
DTSTART:20251102T060000
END:STANDARD
BEGIN:DAYLIGHT
TZOFFSETFROM:-0500
TZOFFSETTO:-0400
TZNAME:EDT
DTSTART:20260308T070000
END:DAYLIGHT
BEGIN:STANDARD
TZOFFSETFROM:-0400
TZOFFSETTO:-0500
TZNAME:EST
DTSTART:20261101T060000
END:STANDARD
BEGIN:DAYLIGHT
TZOFFSETFROM:-0500
TZOFFSETTO:-0400
TZNAME:EDT
DTSTART:20270314T070000
END:DAYLIGHT
BEGIN:STANDARD
TZOFFSETFROM:-0400
TZOFFSETTO:-0500
TZNAME:EST
DTSTART:20271107T060000
END:STANDARD
END:VTIMEZONE
BEGIN:VEVENT
DTSTART;TZID=America/New_York:20260213T173000
DTEND;TZID=America/New_York:20260213T183000
DTSTAMP:20260419T103845
CREATED:20260122T181317Z
LAST-MODIFIED:20260122T181459Z
UID:10000399-1771003800-1771007400@www.mosaicatchathampark.com
SUMMARY:Woof Gang: Paw-lentine’s Yappy Hour!
DESCRIPTION:Woof Gang Pittsboro’s Paw-lentine’s Yappy Hour is bringing the love! \n\nLocal Love Swag Bags for the first 25 guests (treats\, gifts & special offers from local businesses)\nSampling Yappie Hour Beverages for dogs & Bramble dog treats (and a few more fun surprises)\nEdie debuts her very own Paw-Secco blend\nDog Kissing Booth (licks welcome)\n20% off all pink & red retail in store\n\nFriday\, Feb 13 | 5:30–6:30 PM \nWalk over after work\, dogs encouraged.
URL:https://www.mosaicatchathampark.com/event/woof-gang-paw-lentines-yappy-hour/
LOCATION:Woof Gang Bakery & Grooming\, 50 Lifestyle Place\, Pittsboro\, NC\, 27312\, United States
CATEGORIES:Tenant Event
ATTACH;FMTTYPE=image/jpeg:https://www.mosaicatchathampark.com/wp-content/uploads/Your-paragraph-text-4-2.jpg
END:VEVENT
BEGIN:VEVENT
DTSTART;TZID=America/New_York:20251116T120000
DTEND;TZID=America/New_York:20251116T140000
DTSTAMP:20260419T103845
CREATED:20251015T135249Z
LAST-MODIFIED:20251015T185120Z
UID:10000292-1763294400-1763301600@www.mosaicatchathampark.com
SUMMARY:Woof Gang One-Year Anniversary!
DESCRIPTION:Come celebrate with Woof Gang Bakery & Grooming. \nWe’re throwing a paw-ty to celebrate our first year!  \nStop by for free dog treat and dog food samples\, local vendor raffles\, and plenty of fun for pups and their people.
URL:https://www.mosaicatchathampark.com/event/woof-gang-one-year-anniversary/
LOCATION:Woof Gang Bakery & Grooming\, 50 Lifestyle Place\, Pittsboro\, NC\, 27312\, United States
CATEGORIES:Tenant Event
ATTACH;FMTTYPE=image/jpeg:https://www.mosaicatchathampark.com/wp-content/uploads/image001-2.jpg
END:VEVENT
END:VCALENDAR